BEGIN:VCALENDAR
VERSION:2.0
PRODID:-//RuckATL - ECPv6.15.10//NONSGML v1.0//EN
CALSCALE:GREGORIAN
METHOD:PUBLISH
X-ORIGINAL-URL:https://www.ruckatl.org
X-WR-CALDESC:Events for RuckATL
REFRESH-INTERVAL;VALUE=DURATION:PT1H
X-Robots-Tag:noindex
X-PUBLISHED-TTL:PT1H
BEGIN:VTIMEZONE
TZID:America/New_York
BEGIN:DAYLIGHT
TZOFFSETFROM:-0500
TZOFFSETTO:-0400
TZNAME:EDT
DTSTART:20170312T070000
END:DAYLIGHT
BEGIN:STANDARD
TZOFFSETFROM:-0400
TZOFFSETTO:-0500
TZNAME:EST
DTSTART:20171105T060000
END:STANDARD
BEGIN:DAYLIGHT
TZOFFSETFROM:-0500
TZOFFSETTO:-0400
TZNAME:EDT
DTSTART:20180311T070000
END:DAYLIGHT
BEGIN:STANDARD
TZOFFSETFROM:-0400
TZOFFSETTO:-0500
TZNAME:EST
DTSTART:20181104T060000
END:STANDARD
BEGIN:DAYLIGHT
TZOFFSETFROM:-0500
TZOFFSETTO:-0400
TZNAME:EDT
DTSTART:20190310T070000
END:DAYLIGHT
BEGIN:STANDARD
TZOFFSETFROM:-0400
TZOFFSETTO:-0500
TZNAME:EST
DTSTART:20191103T060000
END:STANDARD
BEGIN:DAYLIGHT
TZOFFSETFROM:-0500
TZOFFSETTO:-0400
TZNAME:EDT
DTSTART:20200308T070000
END:DAYLIGHT
BEGIN:STANDARD
TZOFFSETFROM:-0400
TZOFFSETTO:-0500
TZNAME:EST
DTSTART:20201101T060000
END:STANDARD
BEGIN:DAYLIGHT
TZOFFSETFROM:-0500
TZOFFSETTO:-0400
TZNAME:EDT
DTSTART:20210314T070000
END:DAYLIGHT
BEGIN:STANDARD
TZOFFSETFROM:-0400
TZOFFSETTO:-0500
TZNAME:EST
DTSTART:20211107T060000
END:STANDARD
END:VTIMEZONE
BEGIN:VEVENT
DTSTART;TZID=America/New_York:20200425T100000
DTEND;TZID=America/New_York:20200425T120000
DTSTAMP:20260423T115857
CREATED:20200228T055238Z
LAST-MODIFIED:20200228T060914Z
UID:284-1587808800-1587816000@www.ruckatl.org
SUMMARY:2020 Manion WOD
DESCRIPTION:Join the Atlanta Ruck Club for the Manion WOD as we honor 1st Lt. Travis Manion (USMC) and all of our nation’s heroes!\nYou’ll break a sweat\, build character\, and walk away with a Manion WOD tee! \nDate: April 25\, 2020\nTime: 10 AM\nLocation: Atlanta Firebase\,198 14th St. NW\, Atlanta\, GA 30318\nWorkout: 400 meter ruck\, 29 back squats\, 7 rounds \nREGISTER here:\nhttps://donate.travismanion.org/event/manion-wod-2020-ruckatl/e274245
URL:https://www.ruckatl.org/event/2020-manion-wod/
LOCATION:Atlanta Firebase\, 198 14th St NW\, Atlanta\, GA\, 30318\, United States
CATEGORIES:TMF
END:VEVENT
BEGIN:VEVENT
DTSTART;TZID=America/New_York:20180407T140000
DTEND;TZID=America/New_York:20180407T200000
DTSTAMP:20260423T115857
CREATED:20180402T210341Z
LAST-MODIFIED:20180402T210400Z
UID:220-1523109600-1523131200@www.ruckatl.org
SUMMARY:GORUCK Light: Bataan Death March Memorial
DESCRIPTION:“Once the march started\, everything just sort of froze in my mind. I was pretty numb the whole time. I didn’t think and I didn’t feel. I was like a robot and just kept moving. Other than daylight or dark\, I lost all track of time. I had to blank everything out and focus straight ahead. I lived from day to day\, in fact\, hour by hour. The only thing I thought about was the moment and\, ‘The good Lord willing\, I’ll get through the day.’\n– Staff Sgt. Alf Larson\, Bataan Death March Survivor \nThis event honors the men and women of one of the biggest atrocities of WWII\, the Bataan Death March. The Bataan Death March occurred in the Philippines in April 1942 when 60\,000-80\,000 US and Filipino soldiers were captured and forced by the Japanese to march more than 70 miles while being brutalized by their captors. During this memorial Challenge\, you and your team will learn about the historical significance of the Bataan Death March as you experience an event where “No one left behind” is your team’s priority. Participants are requested to be prepared to brief the class on an individual or story from the Bataan Death March during the event. Participants who finish this event will receive the unique Bataan Death March Memorial patch which is always earned and never sold. \n\n\n\n\n4-5 HOURS\, 7-10 MILES. LIGHT = FUN ON A TEAM. AVERAGE COMPLETION RATE: 100%\nWhat to Bring\n\nA rucksack aka backpack (GR1 or Rucker recommended)\nRuck Plate = to your weight requirement\n\nIf you weigh >150 lbs = 20 lb. Ruck Plate (or equivalent)\nIf you weigh < 150 lbs = 10 lb. Ruck Plate (or equivalent)\n\n\nHydration Bladder: Source 3L recommended\nNalgene bottle (1L) or equivalent (electrolytes recommended)\nReflective Ruck Bands (or equivalent) on your ruck\nWindbreaker (only if the temperature is expected below 60 ℉)\nPhoto ID and $20 cash just in case\nAs a class\, you need one (1) 25 lb. class weight and one American Flag. Use your event’s Facebook page to meet your class\, organize training\, and coordinate team weight details.\nFlip-flops (not required) – upon completion of a GORUCK Light\, it’s one of the seven great feelings in the world to take your shoes and socks off and put flip flops on. It also makes the hell-yeah-I-earned-my-patch beer taste even better.\n\nTransfers & Refunds\n\nRefunds are not allowed for this event\nTransfering registration to a different participant is not allowed\nTransfers to a different event date can be accommodated if requested more than 7 days before the event\n\nGot Questions?\n\nVisit our searchable FAQ for answers\nContact us if you still need help
URL:https://www.ruckatl.org/event/goruck-light-bataan-2018/
LOCATION:GA
CATEGORIES:GORUCK,GORUCK - Light
ATTACH;FMTTYPE=image/png:https://www.ruckatl.org/wp-content/uploads/2018/04/gorucklightbataan.png
END:VEVENT
BEGIN:VEVENT
DTSTART;TZID=America/New_York:20180407T080000
DTEND;TZID=America/New_York:20180407T110000
DTSTAMP:20260423T115857
CREATED:20180331T062515Z
LAST-MODIFIED:20180402T205516Z
UID:194-1523088000-1523098800@www.ruckatl.org
SUMMARY:Team RWB Run as One 2018
DESCRIPTION:RUN AS ONE – ATLANTA\nTime: 08:00 AM – 11:00 AM EDT\nLocation: Piedmont Park Active Oval 1071 Piedmont Ave NE\, Atlanta\, GA 30309 \nHistory: It began in 2012 as an attempt to bring previously hostile tribes in South Sudan together for healthy competition off the battlefield and has grown into a collaborative global event. When Clay Hunt passed\, we realized we needed to forge a stronger community – both with veterans and civilians. \nRun As One is an opportunity to establish and renew bonds with our brothers and sisters in our partner organizations and communities. Demonstrate to the world our collective culture of inclusiveness and camaraderie. So run. Run fast. Run slow. Run as a team. Appreciate and live the greater meaning of today. We know shared purpose and hard work towards a common goal builds the strongest communities\, so run together\, run as one. Use this event to connect with all of your veteran brothers and sisters while establishing meaningful connections within the community. \nSign up for the Atlanta Team RWB Chapter Run As One team here: https://donate.teamrwb.org/team/155112 \n**Event will take place on the Active Oval at Piedmont Park. (This is across from The Nook Restaurant.)
URL:https://www.ruckatl.org/event/run-as-one-2018/
LOCATION:Piedmont Park Active Oval\, 1071 Piedmont Ave NE\, Atlanta\, 30309\, United States
ORGANIZER;CN="Erica Dodge":MAILTO:erica.dodge@teamrwb.org
END:VEVENT
BEGIN:VEVENT
DTSTART;TZID=America/New_York:20180406T200000
DTEND;TZID=America/New_York:20180407T130000
DTSTAMP:20260423T115857
CREATED:20180402T205931Z
LAST-MODIFIED:20180402T210732Z
UID:216-1523044800-1523106000@www.ruckatl.org
SUMMARY:GORUCK Tough: Bataan Death March Memorial
DESCRIPTION:“Once the march started\, everything just sort of froze in my mind. I was pretty numb the whole time. I didn’t think and I didn’t feel. I was like a robot and just kept moving. Other than daylight or dark\, I lost all track of time. I had to blank everything out and focus straight ahead. I lived from day to day\, in fact\, hour by hour. The only thing I thought about was the moment and\, ‘The good Lord willing\, I’ll get through the day.’\n– Staff Sgt. Alf Larson\, Bataan Death March Survivor \nThis event honors the men and women of one of the biggest atrocities of WWII\, the Bataan Death March. The Bataan Death March occurred in the Philippines in April 1942 when 60\,000-80\,000 US and Filipino soldiers were captured and forced by the Japanese to march more than 70 miles while being brutalized by their captors. During this memorial Challenge\, you and your team will learn about the historical significance of the Bataan Death March as you experience an event where “No one left behind” is your team’s priority. Participants are requested to be prepared to brief the class on an individual or story from the Bataan Death March during the event. Participants who finish this event will receive the unique Bataan Death March Memorial patch which is always earned and never sold. \n\n\n\n\n\n10-12 HOURS\, 15-20 MILES. THE ORIGINAL CHALLENGE. AVERAGE COMPLETION RATE: 94%\nWhat to Bring\n\nA rucksack aka backpack (GR1 or Rucker recommended)\nRuck Plate = to your weight requirement\n\nIf you weigh >150 lbs = 30 lb. Ruck Plate (or equivalent)\nIf you weigh < 150 lbs = 20 lb. Ruck Plate (or equivalent)\n\n\nHydration Bladder: Source 3L recommended\nNalgene bottle (1L) or equivalent (electrolytes recommended)\nReflective Ruck Bands (or equivalent) on your ruck\nHeadlamp with extra batteries\nWindbreaker (only if the temperature is expected below 60 ℉)\nPhoto ID and $20 cash just in case\nAs a class\, you need one (1) 25 lb. class weight and one American Flag. Use your event’s Facebook page to meet your class\, organize training\, and coordinate team weight details.\nFlip-flops (not required) – upon completion of a GORUCK Tough\, it’s one of the seven great feelings in the world to take your shoes and socks off and put flip flops on. It also makes the hell-yeah-I-earned-my-patch beer taste even better.\n\nTransfers & Refunds\n\nRefunds are not allowed for this event\nTransfering registration to a different participant is not allowed\nTransfers to a different event date can be accommodated if requested more than 7 days before the event\n\nGot Questions?\n\nVisit our searchable FAQ for answers\nContact us if you still need help\n\n\n\nMeeting up to Train\nThere are people training for your event at the following spot(s) and we encourage you to be one of them:\n\nRush MMA (Macon\, GA)\nTeam Forged (Adairsville\, GA)\nVenture CrossFit (Atlanta\, GA)\nAtlanta Mat Club (Atlanta\, GA)\n\nCheck out our RUCK CLUB map for more.
URL:https://www.ruckatl.org/event/goruck-tough-bataan-2018/
LOCATION:Recon Compound\, 1880 Roswell St. SE\, Smyrna\, GA\, 30080\, United States
CATEGORIES:GORUCK,GORUCK - Tough
ATTACH;FMTTYPE=image/png:https://www.ruckatl.org/wp-content/uploads/2018/04/goruck_bataan_tough.png
ORGANIZER;CN="GORUCK":MAILTO:support@goruck.com
END:VEVENT
BEGIN:VEVENT
DTSTART;TZID=America/New_York:20180404T143000
DTEND;TZID=America/New_York:20180404T160000
DTSTAMP:20260423T115857
CREATED:20180330T105255Z
LAST-MODIFIED:20180330T105332Z
UID:90-1522852200-1522857600@www.ruckatl.org
SUMMARY:Team RWB Brookhaven Ruck
DESCRIPTION:
URL:https://www.ruckatl.org/event/team-rwb-brookhaven-ruck/
LOCATION:Kroger Parking Lot\, 3871 Peachtree Rd.\, Brookhaven\, GA\, 30319\, United States
ORGANIZER;CN="Erica Dodge":MAILTO:erica.dodge@teamrwb.org
END:VEVENT
END:VCALENDAR